BEGIN:VCALENDAR
VERSION:2.0
PRODID:-//Doopsgezinde Gemeente Ouddorp - ECPv6.15.20//NONSGML v1.0//EN
CALSCALE:GREGORIAN
METHOD:PUBLISH
X-ORIGINAL-URL:https://www.doopsgezindouddorp.nl
X-WR-CALDESC:Evenementen voor Doopsgezinde Gemeente Ouddorp
REFRESH-INTERVAL;VALUE=DURATION:PT1H
X-Robots-Tag:noindex
X-PUBLISHED-TTL:PT1H
BEGIN:VTIMEZONE
TZID:Europe/Amsterdam
BEGIN:DAYLIGHT
TZOFFSETFROM:+0100
TZOFFSETTO:+0200
TZNAME:CEST
DTSTART:20240331T010000
END:DAYLIGHT
BEGIN:STANDARD
TZOFFSETFROM:+0200
TZOFFSETTO:+0100
TZNAME:CET
DTSTART:20241027T010000
END:STANDARD
BEGIN:DAYLIGHT
TZOFFSETFROM:+0100
TZOFFSETTO:+0200
TZNAME:CEST
DTSTART:20250330T010000
END:DAYLIGHT
BEGIN:STANDARD
TZOFFSETFROM:+0200
TZOFFSETTO:+0100
TZNAME:CET
DTSTART:20251026T010000
END:STANDARD
BEGIN:DAYLIGHT
TZOFFSETFROM:+0100
TZOFFSETTO:+0200
TZNAME:CEST
DTSTART:20260329T010000
END:DAYLIGHT
BEGIN:STANDARD
TZOFFSETFROM:+0200
TZOFFSETTO:+0100
TZNAME:CET
DTSTART:20261025T010000
END:STANDARD
END:VTIMEZONE
BEGIN:VEVENT
DTSTART;TZID=Europe/Amsterdam:20251207T183000
DTEND;TZID=Europe/Amsterdam:20251207T183000
DTSTAMP:20260426T051024
CREATED:20251201T144536Z
LAST-MODIFIED:20251201T144557Z
UID:10001908-1765132200-1765132200@www.doopsgezindouddorp.nl
SUMMARY:Avonddienst - Ds. C. Kant
DESCRIPTION:
URL:https://www.doopsgezindouddorp.nl/aktiviteit/avonddienst-12/
CATEGORIES:Diensten
ATTACH;FMTTYPE=image/png:https://www.doopsgezindouddorp.nl/wp-content/uploads/2022/05/Agenda-item-Avonddienst-1.png
END:VEVENT
BEGIN:VEVENT
DTSTART;TZID=Europe/Amsterdam:20251208T130000
DTEND;TZID=Europe/Amsterdam:20251208T140000
DTSTAMP:20260426T051024
CREATED:20250603T090123Z
LAST-MODIFIED:20250603T090123Z
UID:10001805-1765198800-1765202400@www.doopsgezindouddorp.nl
SUMMARY:Gebedsgroep
DESCRIPTION:
URL:https://www.doopsgezindouddorp.nl/aktiviteit/gebedsgroep/2025-12-08/
CATEGORIES:Groepen
ATTACH;FMTTYPE=image/png:https://www.doopsgezindouddorp.nl/wp-content/uploads/2023/02/Agenda-item-Gebedsgroep.png
END:VEVENT
BEGIN:VEVENT
DTSTART;TZID=Europe/Amsterdam:20251209T100000
DTEND;TZID=Europe/Amsterdam:20251209T120000
DTSTAMP:20260426T051024
CREATED:20250630T071352Z
LAST-MODIFIED:20250630T071352Z
UID:10001953-1765274400-1765281600@www.doopsgezindouddorp.nl
SUMMARY:Open Kerk
DESCRIPTION:
URL:https://www.doopsgezindouddorp.nl/aktiviteit/open-kerk/2025-12-09/
CATEGORIES:Groepen
ATTACH;FMTTYPE=image/png:https://www.doopsgezindouddorp.nl/wp-content/uploads/2023/02/Agenda-item-OpenKerk-1.png
END:VEVENT
BEGIN:VEVENT
DTSTART;TZID=Europe/Amsterdam:20251209T193000
DTEND;TZID=Europe/Amsterdam:20251209T210000
DTSTAMP:20260426T051024
CREATED:20251004T190624Z
LAST-MODIFIED:20251004T190624Z
UID:10002107-1765308600-1765314000@www.doopsgezindouddorp.nl
SUMMARY:Gospelkoor
DESCRIPTION:
URL:https://www.doopsgezindouddorp.nl/aktiviteit/gospelkoor/2025-12-09/
CATEGORIES:Groepen
ATTACH;FMTTYPE=image/png:https://www.doopsgezindouddorp.nl/wp-content/uploads/2023/02/Agenda-item-Gospelkoor.png
END:VEVENT
BEGIN:VEVENT
DTSTART;TZID=Europe/Amsterdam:20251213T090000
DTEND;TZID=Europe/Amsterdam:20251213T140000
DTSTAMP:20260426T051024
CREATED:20251118T084810Z
LAST-MODIFIED:20251118T084810Z
UID:10002139-1765616400-1765634400@www.doopsgezindouddorp.nl
SUMMARY:Winterfair
DESCRIPTION:
URL:https://www.doopsgezindouddorp.nl/aktiviteit/winterfair/
ATTACH;FMTTYPE=image/png:https://www.doopsgezindouddorp.nl/wp-content/uploads/2025/11/Winterfair_2025_A4-1.png
END:VEVENT
BEGIN:VEVENT
DTSTART;TZID=Europe/Amsterdam:20251214T093000
DTEND;TZID=Europe/Amsterdam:20251214T093000
DTSTAMP:20260426T051024
CREATED:20250603T090306Z
LAST-MODIFIED:20260223T133729Z
UID:10002436-1765704600-1765704600@www.doopsgezindouddorp.nl
SUMMARY:Ochtenddienst
DESCRIPTION:
URL:https://www.doopsgezindouddorp.nl/aktiviteit/ochtenddienst-2-2025-08-10/2025-12-14/
CATEGORIES:Diensten
ATTACH;FMTTYPE=image/png:https://www.doopsgezindouddorp.nl/wp-content/uploads/2022/12/Agenda-item-Ochtenddienst-1.png
END:VEVENT
BEGIN:VEVENT
DTSTART;TZID=Europe/Amsterdam:20251214T093000
DTEND;TZID=Europe/Amsterdam:20251214T093000
DTSTAMP:20260426T051024
CREATED:20251201T144614Z
LAST-MODIFIED:20251201T144636Z
UID:10001856-1765704600-1765704600@www.doopsgezindouddorp.nl
SUMMARY:Ochtenddienst - Ds. Jesse de Haan
DESCRIPTION:
URL:https://www.doopsgezindouddorp.nl/aktiviteit/ochtenddienst-13/
CATEGORIES:Diensten
ATTACH;FMTTYPE=image/png:https://www.doopsgezindouddorp.nl/wp-content/uploads/2022/12/Agenda-item-Ochtenddienst-1.png
END:VEVENT
BEGIN:VEVENT
DTSTART;TZID=Europe/Amsterdam:20251214T183000
DTEND;TZID=Europe/Amsterdam:20251214T183000
DTSTAMP:20260426T051024
CREATED:20250603T090636Z
LAST-MODIFIED:20260223T133206Z
UID:10002423-1765737000-1765737000@www.doopsgezindouddorp.nl
SUMMARY:Avonddienst
DESCRIPTION:
URL:https://www.doopsgezindouddorp.nl/aktiviteit/avonddienst-3-2025-08-10/2025-12-14/
CATEGORIES:Diensten
ATTACH;FMTTYPE=image/png:https://www.doopsgezindouddorp.nl/wp-content/uploads/2022/05/Agenda-item-Avonddienst-1.png
END:VEVENT
BEGIN:VEVENT
DTSTART;TZID=Europe/Amsterdam:20251214T183000
DTEND;TZID=Europe/Amsterdam:20251214T183000
DTSTAMP:20260426T051024
CREATED:20251201T144701Z
LAST-MODIFIED:20251201T144725Z
UID:10001909-1765737000-1765737000@www.doopsgezindouddorp.nl
SUMMARY:Avonddienst - Ds. O. Lohuis
DESCRIPTION:
URL:https://www.doopsgezindouddorp.nl/aktiviteit/avonddienst-13/
CATEGORIES:Diensten
ATTACH;FMTTYPE=image/png:https://www.doopsgezindouddorp.nl/wp-content/uploads/2022/05/Agenda-item-Avonddienst-1.png
END:VEVENT
BEGIN:VEVENT
DTSTART;TZID=Europe/Amsterdam:20251215T130000
DTEND;TZID=Europe/Amsterdam:20251215T140000
DTSTAMP:20260426T051024
CREATED:20250603T090123Z
LAST-MODIFIED:20250603T090123Z
UID:10001806-1765803600-1765807200@www.doopsgezindouddorp.nl
SUMMARY:Gebedsgroep
DESCRIPTION:
URL:https://www.doopsgezindouddorp.nl/aktiviteit/gebedsgroep/2025-12-15/
CATEGORIES:Groepen
ATTACH;FMTTYPE=image/png:https://www.doopsgezindouddorp.nl/wp-content/uploads/2023/02/Agenda-item-Gebedsgroep.png
END:VEVENT
BEGIN:VEVENT
DTSTART;TZID=Europe/Amsterdam:20251216T100000
DTEND;TZID=Europe/Amsterdam:20251216T120000
DTSTAMP:20260426T051024
CREATED:20250630T071352Z
LAST-MODIFIED:20250630T071352Z
UID:10001954-1765879200-1765886400@www.doopsgezindouddorp.nl
SUMMARY:Open Kerk
DESCRIPTION:
URL:https://www.doopsgezindouddorp.nl/aktiviteit/open-kerk/2025-12-16/
CATEGORIES:Groepen
ATTACH;FMTTYPE=image/png:https://www.doopsgezindouddorp.nl/wp-content/uploads/2023/02/Agenda-item-OpenKerk-1.png
END:VEVENT
BEGIN:VEVENT
DTSTART;TZID=Europe/Amsterdam:20251216T193000
DTEND;TZID=Europe/Amsterdam:20251216T210000
DTSTAMP:20260426T051024
CREATED:20251004T190624Z
LAST-MODIFIED:20251004T190624Z
UID:10002108-1765913400-1765918800@www.doopsgezindouddorp.nl
SUMMARY:Gospelkoor
DESCRIPTION:
URL:https://www.doopsgezindouddorp.nl/aktiviteit/gospelkoor/2025-12-16/
CATEGORIES:Groepen
ATTACH;FMTTYPE=image/png:https://www.doopsgezindouddorp.nl/wp-content/uploads/2023/02/Agenda-item-Gospelkoor.png
END:VEVENT
BEGIN:VEVENT
DTSTART;TZID=Europe/Amsterdam:20251218T150000
DTEND;TZID=Europe/Amsterdam:20251218T180000
DTSTAMP:20260426T051024
CREATED:20250804T202103Z
LAST-MODIFIED:20250916T223807Z
UID:10002089-1766070000-1766080800@www.doopsgezindouddorp.nl
SUMMARY:55+ middag
DESCRIPTION:
URL:https://www.doopsgezindouddorp.nl/aktiviteit/55-middag/2025-12-18/
CATEGORIES:Groepen
ATTACH;FMTTYPE=image/png:https://www.doopsgezindouddorp.nl/wp-content/uploads/2022/08/Agenda-item-55plus_middag-1.png
END:VEVENT
BEGIN:VEVENT
DTSTART;TZID=Europe/Amsterdam:20251221T093000
DTEND;TZID=Europe/Amsterdam:20251221T093000
DTSTAMP:20260426T051024
CREATED:20250603T090306Z
LAST-MODIFIED:20260223T133729Z
UID:10002437-1766309400-1766309400@www.doopsgezindouddorp.nl
SUMMARY:Ochtenddienst
DESCRIPTION:
URL:https://www.doopsgezindouddorp.nl/aktiviteit/ochtenddienst-2-2025-08-10/2025-12-21/
CATEGORIES:Diensten
ATTACH;FMTTYPE=image/png:https://www.doopsgezindouddorp.nl/wp-content/uploads/2022/12/Agenda-item-Ochtenddienst-1.png
END:VEVENT
BEGIN:VEVENT
DTSTART;TZID=Europe/Amsterdam:20251221T093000
DTEND;TZID=Europe/Amsterdam:20251221T093000
DTSTAMP:20260426T051024
CREATED:20251201T144742Z
LAST-MODIFIED:20251201T150047Z
UID:10001857-1766309400-1766309400@www.doopsgezindouddorp.nl
SUMMARY:Ochtenddienst - Br. B. Schot
DESCRIPTION:
URL:https://www.doopsgezindouddorp.nl/aktiviteit/ochtenddienst-14/
CATEGORIES:Diensten
ATTACH;FMTTYPE=image/png:https://www.doopsgezindouddorp.nl/wp-content/uploads/2022/12/Agenda-item-Ochtenddienst-1.png
END:VEVENT
BEGIN:VEVENT
DTSTART;TZID=Europe/Amsterdam:20251221T183000
DTEND;TZID=Europe/Amsterdam:20251221T183000
DTSTAMP:20260426T051024
CREATED:20250603T090636Z
LAST-MODIFIED:20260223T133206Z
UID:10002424-1766341800-1766341800@www.doopsgezindouddorp.nl
SUMMARY:Avonddienst
DESCRIPTION:
URL:https://www.doopsgezindouddorp.nl/aktiviteit/avonddienst-3-2025-08-10/2025-12-21/
CATEGORIES:Diensten
ATTACH;FMTTYPE=image/png:https://www.doopsgezindouddorp.nl/wp-content/uploads/2022/05/Agenda-item-Avonddienst-1.png
END:VEVENT
BEGIN:VEVENT
DTSTART;TZID=Europe/Amsterdam:20251221T183000
DTEND;TZID=Europe/Amsterdam:20251221T183000
DTSTAMP:20260426T051024
CREATED:20251201T144831Z
LAST-MODIFIED:20251218T000019Z
UID:10001910-1766341800-1766341800@www.doopsgezindouddorp.nl
SUMMARY:Avonddienst - Br. H. ten Voorde
DESCRIPTION:
URL:https://www.doopsgezindouddorp.nl/aktiviteit/avonddienst-14/
CATEGORIES:Diensten
ATTACH;FMTTYPE=image/png:https://www.doopsgezindouddorp.nl/wp-content/uploads/2022/05/Agenda-item-Avonddienst-1.png
END:VEVENT
BEGIN:VEVENT
DTSTART;TZID=Europe/Amsterdam:20251222T130000
DTEND;TZID=Europe/Amsterdam:20251222T140000
DTSTAMP:20260426T051024
CREATED:20250603T090123Z
LAST-MODIFIED:20250603T090123Z
UID:10001807-1766408400-1766412000@www.doopsgezindouddorp.nl
SUMMARY:Gebedsgroep
DESCRIPTION:
URL:https://www.doopsgezindouddorp.nl/aktiviteit/gebedsgroep/2025-12-22/
CATEGORIES:Groepen
ATTACH;FMTTYPE=image/png:https://www.doopsgezindouddorp.nl/wp-content/uploads/2023/02/Agenda-item-Gebedsgroep.png
END:VEVENT
BEGIN:VEVENT
DTSTART;TZID=Europe/Amsterdam:20251223T100000
DTEND;TZID=Europe/Amsterdam:20251223T120000
DTSTAMP:20260426T051024
CREATED:20250630T071352Z
LAST-MODIFIED:20250630T071352Z
UID:10001955-1766484000-1766491200@www.doopsgezindouddorp.nl
SUMMARY:Open Kerk
DESCRIPTION:
URL:https://www.doopsgezindouddorp.nl/aktiviteit/open-kerk/2025-12-23/
CATEGORIES:Groepen
ATTACH;FMTTYPE=image/png:https://www.doopsgezindouddorp.nl/wp-content/uploads/2023/02/Agenda-item-OpenKerk-1.png
END:VEVENT
BEGIN:VEVENT
DTSTART;TZID=Europe/Amsterdam:20251223T193000
DTEND;TZID=Europe/Amsterdam:20251223T210000
DTSTAMP:20260426T051024
CREATED:20251004T190624Z
LAST-MODIFIED:20251004T190624Z
UID:10002109-1766518200-1766523600@www.doopsgezindouddorp.nl
SUMMARY:Gospelkoor
DESCRIPTION:
URL:https://www.doopsgezindouddorp.nl/aktiviteit/gospelkoor/2025-12-23/
CATEGORIES:Groepen
ATTACH;FMTTYPE=image/png:https://www.doopsgezindouddorp.nl/wp-content/uploads/2023/02/Agenda-item-Gospelkoor.png
END:VEVENT
BEGIN:VEVENT
DTSTART;TZID=Europe/Amsterdam:20251224T200000
DTEND;TZID=Europe/Amsterdam:20251224T200000
DTSTAMP:20260426T051024
CREATED:20251201T145135Z
LAST-MODIFIED:20251201T145135Z
UID:10002140-1766606400-1766606400@www.doopsgezindouddorp.nl
SUMMARY:Kerstnachtdienst - Ds. N. de Boo
DESCRIPTION:
URL:https://www.doopsgezindouddorp.nl/aktiviteit/kerstnachtdienst-ds-n-de-boo/
ATTACH;FMTTYPE=image/jpeg:https://www.doopsgezindouddorp.nl/wp-content/uploads/2023/11/Kerst-2023.jpg
END:VEVENT
BEGIN:VEVENT
DTSTART;TZID=Europe/Amsterdam:20251225T100000
DTEND;TZID=Europe/Amsterdam:20251225T100000
DTSTAMP:20260426T051024
CREATED:20251201T145726Z
LAST-MODIFIED:20251201T145726Z
UID:10002141-1766656800-1766656800@www.doopsgezindouddorp.nl
SUMMARY:Ochtenddienst - Ds. Krüger
DESCRIPTION:
URL:https://www.doopsgezindouddorp.nl/aktiviteit/ochtenddienst-ds-kruger/
ATTACH;FMTTYPE=image/jpeg:https://www.doopsgezindouddorp.nl/wp-content/uploads/2025/12/PHOTO-2025-10-27-13-31-50.jpg
END:VEVENT
BEGIN:VEVENT
DTSTART;TZID=Europe/Amsterdam:20251226T100000
DTEND;TZID=Europe/Amsterdam:20251226T100000
DTSTAMP:20260426T051024
CREATED:20251201T145905Z
LAST-MODIFIED:20251201T145905Z
UID:10002142-1766743200-1766743200@www.doopsgezindouddorp.nl
SUMMARY:Ochtenddienst - Zr. M. Witkamp
DESCRIPTION:
URL:https://www.doopsgezindouddorp.nl/aktiviteit/ochtenddienst-zr-m-witkamp/
ATTACH;FMTTYPE=image/jpeg:https://www.doopsgezindouddorp.nl/wp-content/uploads/2025/12/PHOTO-2025-10-27-13-31-50.jpg
END:VEVENT
BEGIN:VEVENT
DTSTART;TZID=Europe/Amsterdam:20251228T093000
DTEND;TZID=Europe/Amsterdam:20251228T093000
DTSTAMP:20260426T051024
CREATED:20250603T090306Z
LAST-MODIFIED:20260223T133729Z
UID:10002438-1766914200-1766914200@www.doopsgezindouddorp.nl
SUMMARY:Ochtenddienst
DESCRIPTION:
URL:https://www.doopsgezindouddorp.nl/aktiviteit/ochtenddienst-2-2025-08-10/2025-12-28/
CATEGORIES:Diensten
ATTACH;FMTTYPE=image/png:https://www.doopsgezindouddorp.nl/wp-content/uploads/2022/12/Agenda-item-Ochtenddienst-1.png
END:VEVENT
BEGIN:VEVENT
DTSTART;TZID=Europe/Amsterdam:20251228T093000
DTEND;TZID=Europe/Amsterdam:20251228T093000
DTSTAMP:20260426T051024
CREATED:20251201T145930Z
LAST-MODIFIED:20251201T145946Z
UID:10001858-1766914200-1766914200@www.doopsgezindouddorp.nl
SUMMARY:Ochtenddienst - Br. M. Nap
DESCRIPTION:
URL:https://www.doopsgezindouddorp.nl/aktiviteit/ochtenddienst-15/
CATEGORIES:Diensten
ATTACH;FMTTYPE=image/png:https://www.doopsgezindouddorp.nl/wp-content/uploads/2022/12/Agenda-item-Ochtenddienst-1.png
END:VEVENT
BEGIN:VEVENT
DTSTART;TZID=Europe/Amsterdam:20251228T183000
DTEND;TZID=Europe/Amsterdam:20251228T183000
DTSTAMP:20260426T051024
CREATED:20250603T090636Z
LAST-MODIFIED:20260223T133206Z
UID:10002425-1766946600-1766946600@www.doopsgezindouddorp.nl
SUMMARY:Avonddienst
DESCRIPTION:
URL:https://www.doopsgezindouddorp.nl/aktiviteit/avonddienst-3-2025-08-10/2025-12-28/
CATEGORIES:Diensten
ATTACH;FMTTYPE=image/png:https://www.doopsgezindouddorp.nl/wp-content/uploads/2022/05/Agenda-item-Avonddienst-1.png
END:VEVENT
BEGIN:VEVENT
DTSTART;TZID=Europe/Amsterdam:20251228T183000
DTEND;TZID=Europe/Amsterdam:20251228T183000
DTSTAMP:20260426T051024
CREATED:20251201T150006Z
LAST-MODIFIED:20251201T150021Z
UID:10001911-1766946600-1766946600@www.doopsgezindouddorp.nl
SUMMARY:Avonddienst - Br. B. Schot
DESCRIPTION:
URL:https://www.doopsgezindouddorp.nl/aktiviteit/avonddienst-15/
CATEGORIES:Diensten
ATTACH;FMTTYPE=image/png:https://www.doopsgezindouddorp.nl/wp-content/uploads/2022/05/Agenda-item-Avonddienst-1.png
END:VEVENT
BEGIN:VEVENT
DTSTART;TZID=Europe/Amsterdam:20251229T130000
DTEND;TZID=Europe/Amsterdam:20251229T140000
DTSTAMP:20260426T051024
CREATED:20250603T090123Z
LAST-MODIFIED:20250603T090123Z
UID:10001808-1767013200-1767016800@www.doopsgezindouddorp.nl
SUMMARY:Gebedsgroep
DESCRIPTION:
URL:https://www.doopsgezindouddorp.nl/aktiviteit/gebedsgroep/2025-12-29/
CATEGORIES:Groepen
ATTACH;FMTTYPE=image/png:https://www.doopsgezindouddorp.nl/wp-content/uploads/2023/02/Agenda-item-Gebedsgroep.png
END:VEVENT
BEGIN:VEVENT
DTSTART;TZID=Europe/Amsterdam:20251230T100000
DTEND;TZID=Europe/Amsterdam:20251230T120000
DTSTAMP:20260426T051024
CREATED:20250630T071352Z
LAST-MODIFIED:20250630T071352Z
UID:10001956-1767088800-1767096000@www.doopsgezindouddorp.nl
SUMMARY:Open Kerk
DESCRIPTION:
URL:https://www.doopsgezindouddorp.nl/aktiviteit/open-kerk/2025-12-30/
CATEGORIES:Groepen
ATTACH;FMTTYPE=image/png:https://www.doopsgezindouddorp.nl/wp-content/uploads/2023/02/Agenda-item-OpenKerk-1.png
END:VEVENT
BEGIN:VEVENT
DTSTART;TZID=Europe/Amsterdam:20251231T183000
DTEND;TZID=Europe/Amsterdam:20251231T193000
DTSTAMP:20260426T051024
CREATED:20251201T150458Z
LAST-MODIFIED:20251228T132528Z
UID:10002143-1767205800-1767209400@www.doopsgezindouddorp.nl
SUMMARY:Oudejaarsdienst - Ds. L. Krüger
DESCRIPTION:
URL:https://www.doopsgezindouddorp.nl/aktiviteit/oudejaarsdienst-ds-l-kruger/
ATTACH;FMTTYPE=image/jpeg:https://www.doopsgezindouddorp.nl/wp-content/uploads/2025/12/vuurwerk.jpg
END:VEVENT
END:VCALENDAR